BEGIN:VCALENDAR
VERSION:2.0
PRODID:-//Électrons solaires - ECPv6.15.20//NONSGML v1.0//EN
CALSCALE:GREGORIAN
METHOD:PUBLISH
X-WR-CALNAME:Électrons solaires
X-ORIGINAL-URL:https://www.electrons-solaires93.org
X-WR-CALDESC:Évènements pour Électrons solaires
REFRESH-INTERVAL;VALUE=DURATION:PT1H
X-Robots-Tag:noindex
X-PUBLISHED-TTL:PT1H
BEGIN:VTIMEZONE
TZID:Europe/Paris
BEGIN:DAYLIGHT
TZOFFSETFROM:+0100
TZOFFSETTO:+0200
TZNAME:CEST
DTSTART:20230326T010000
END:DAYLIGHT
BEGIN:STANDARD
TZOFFSETFROM:+0200
TZOFFSETTO:+0100
TZNAME:CET
DTSTART:20231029T010000
END:STANDARD
BEGIN:DAYLIGHT
TZOFFSETFROM:+0100
TZOFFSETTO:+0200
TZNAME:CEST
DTSTART:20240331T010000
END:DAYLIGHT
BEGIN:STANDARD
TZOFFSETFROM:+0200
TZOFFSETTO:+0100
TZNAME:CET
DTSTART:20241027T010000
END:STANDARD
BEGIN:DAYLIGHT
TZOFFSETFROM:+0100
TZOFFSETTO:+0200
TZNAME:CEST
DTSTART:20250330T010000
END:DAYLIGHT
BEGIN:STANDARD
TZOFFSETFROM:+0200
TZOFFSETTO:+0100
TZNAME:CET
DTSTART:20251026T010000
END:STANDARD
END:VTIMEZONE
BEGIN:VEVENT
DTSTART;TZID=Europe/Paris:20240903T190000
DTEND;TZID=Europe/Paris:20240903T210000
DTSTAMP:20260425T190128
CREATED:20240606T131251Z
LAST-MODIFIED:20240606T131251Z
UID:9604-1725390000-1725397200@www.electrons-solaires93.org
SUMMARY:Réunion Conseil n° 66\, 03/09/2024
DESCRIPTION:Réunion du Conseil Électrons solaires\n03 septembre 2024 de 19h à 21h \nMairie des Lilas
URL:https://www.electrons-solaires93.org/event/reunion-conseil-n-66-03-09-2024/
LOCATION:Mairie\, Les Lilas\, 96 rue de Paris\, Les Lilas\, 93260\, France
END:VEVENT
BEGIN:VEVENT
DTSTART;TZID=Europe/Paris:20240907T100000
DTEND;TZID=Europe/Paris:20240907T180000
DTSTAMP:20260425T190128
CREATED:20240716T214928Z
LAST-MODIFIED:20240716T214928Z
UID:9740-1725703200-1725732000@www.electrons-solaires93.org
SUMMARY:Forum des associations Pantin 07/09/2024
DESCRIPTION:Électrons solaires sera présent au Forum des Associations de Pantin\n– le samedi 07/09/2024 de 10h à 18h\nPlace de la Pointe (près du M° Église de Pantin)
URL:https://www.electrons-solaires93.org/event/forum-des-associations-pantin-07-09-2024/
LOCATION:Pantin – Place de la Pointe\, 1 Place de la Pointe\, Pantin\, 93500
END:VEVENT
BEGIN:VEVENT
DTSTART;TZID=Europe/Paris:20240907T100000
DTEND;TZID=Europe/Paris:20240907T190000
DTSTAMP:20260425T190128
CREATED:20240716T214702Z
LAST-MODIFIED:20240716T214702Z
UID:9738-1725703200-1725735600@www.electrons-solaires93.org
SUMMARY:Forum des associations Les Lilas 7-8/09/2024
DESCRIPTION:Électrons solaires sera présent au Forum des Associations des Lilas\n– Le samedi 07/09/2024 de 10h à 19h et\n– le dimanche 08/09/2024 de 10h à 13h\nEspace Anglemont\, Place du Général de Gaulle.
URL:https://www.electrons-solaires93.org/event/forum-des-associations-les-lilas-7-8-09-2024/
LOCATION:Espace Anglemont\, Les Lilas\, Place du Général de Gaulle\, Les Lilas\, 93260\, France
END:VEVENT
BEGIN:VEVENT
DTSTART;TZID=Europe/Paris:20240908T100000
DTEND;TZID=Europe/Paris:20240908T130000
DTSTAMP:20260425T190128
CREATED:20240716T215039Z
LAST-MODIFIED:20240716T215039Z
UID:9742-1725789600-1725800400@www.electrons-solaires93.org
SUMMARY:Forum des associations Les Lilas 7-8/09/2024
DESCRIPTION:Électrons solaires sera présent au Forum des Associations des Lilas\n– Le samedi 07/09/2024 de 10h à 19h et\n– le dimanche 08/09/2024 de 10h à 13h
URL:https://www.electrons-solaires93.org/event/forum-des-associations-les-lilas-7-8-09-2024-2/
LOCATION:Espace Anglemont\, Les Lilas\, Place du Général de Gaulle\, Les Lilas\, 93260\, France
END:VEVENT
BEGIN:VEVENT
DTSTART;TZID=Europe/Paris:20240909T190000
DTEND;TZID=Europe/Paris:20240909T210000
DTSTAMP:20260425T190128
CREATED:20240521T081056Z
LAST-MODIFIED:20240704T172958Z
UID:9556-1725908400-1725915600@www.electrons-solaires93.org
SUMMARY:Assemblée générale extraordinaire\, 09/09/2024
DESCRIPTION:Assemblée générale extraordinaire de la Coopérative Électrons solaires \nlundi 09/09/2024 à 19h00\, Mairie des Lilas \nÀ l’ordre du jour : révision des Statuts et création d’un Règlement intérieur.
URL:https://www.electrons-solaires93.org/event/assemblee-generale-extraordinaire-09-09-2024/
LOCATION:Mairie\, Les Lilas\, 96 rue de Paris\, Les Lilas\, 93260\, France
END:VEVENT
END:VCALENDAR