BEGIN:VCALENDAR
VERSION:2.0
PRODID:-//Électrons solaires - ECPv6.15.20//NONSGML v1.0//EN
CALSCALE:GREGORIAN
METHOD:PUBLISH
X-ORIGINAL-URL:https://www.electrons-solaires93.org
X-WR-CALDESC:Évènements pour Électrons solaires
REFRESH-INTERVAL;VALUE=DURATION:PT1H
X-Robots-Tag:noindex
X-PUBLISHED-TTL:PT1H
BEGIN:VTIMEZONE
TZID:Europe/Paris
BEGIN:DAYLIGHT
TZOFFSETFROM:+0100
TZOFFSETTO:+0200
TZNAME:CEST
DTSTART:20230326T010000
END:DAYLIGHT
BEGIN:STANDARD
TZOFFSETFROM:+0200
TZOFFSETTO:+0100
TZNAME:CET
DTSTART:20231029T010000
END:STANDARD
BEGIN:DAYLIGHT
TZOFFSETFROM:+0100
TZOFFSETTO:+0200
TZNAME:CEST
DTSTART:20240331T010000
END:DAYLIGHT
BEGIN:STANDARD
TZOFFSETFROM:+0200
TZOFFSETTO:+0100
TZNAME:CET
DTSTART:20241027T010000
END:STANDARD
BEGIN:DAYLIGHT
TZOFFSETFROM:+0100
TZOFFSETTO:+0200
TZNAME:CEST
DTSTART:20250330T010000
END:DAYLIGHT
BEGIN:STANDARD
TZOFFSETFROM:+0200
TZOFFSETTO:+0100
TZNAME:CET
DTSTART:20251026T010000
END:STANDARD
END:VTIMEZONE
BEGIN:VEVENT
DTSTART;TZID=Europe/Paris:20240604T190000
DTEND;TZID=Europe/Paris:20240604T213000
DTSTAMP:20260425T145238
CREATED:20231120T145529Z
LAST-MODIFIED:20231120T145529Z
UID:8970-1717527600-1717536600@www.electrons-solaires93.org
SUMMARY:Réunion Conseil n° 64\, 04/06/2024
DESCRIPTION:Réunion du Conseil Électrons solaires\nMairie des Lilas
URL:https://www.electrons-solaires93.org/event/reunion-conseil-n-64-04-06-2024-2/
LOCATION:Mairie\, Les Lilas\, 96 rue de Paris\, Les Lilas\, 93260\, France
END:VEVENT
BEGIN:VEVENT
DTSTART;TZID=Europe/Paris:20240610T183000
DTEND;TZID=Europe/Paris:20240610T210000
DTSTAMP:20260425T145238
CREATED:20231120T145211Z
LAST-MODIFIED:20240521T080839Z
UID:8968-1718044200-1718053200@www.electrons-solaires93.org
SUMMARY:Assemblée générale ordinaire\, 10/06/2024
DESCRIPTION:Assemblée générale ordinaire de la Coopérative Électrons solaires\nMairie des Lilas \n(Attention : la réunion a été avancée du 11 au 10 juin à 18h30) \nRetrouvez en ligne :\n– la convocation\,\n– le rapport de gestion\,\n– le formulaire pour nous faire parvenir un pouvoir si vous ne pouvez être présent·e\n– le formulaire de vote par anticipation
URL:https://www.electrons-solaires93.org/event/assemblee-generale-10-06-2024/
LOCATION:Mairie\, Les Lilas\, 96 rue de Paris\, Les Lilas\, 93260\, France
END:VEVENT
END:VCALENDAR