BEGIN:VCALENDAR
VERSION:2.0
PRODID:-//Électrons solaires - ECPv6.15.20//NONSGML v1.0//EN
CALSCALE:GREGORIAN
METHOD:PUBLISH
X-WR-CALNAME:Électrons solaires
X-ORIGINAL-URL:https://www.electrons-solaires93.org
X-WR-CALDESC:Évènements pour Électrons solaires
REFRESH-INTERVAL;VALUE=DURATION:PT1H
X-Robots-Tag:noindex
X-PUBLISHED-TTL:PT1H
BEGIN:VTIMEZONE
TZID:Europe/Paris
BEGIN:DAYLIGHT
TZOFFSETFROM:+0100
TZOFFSETTO:+0200
TZNAME:CEST
DTSTART:20220327T010000
END:DAYLIGHT
BEGIN:STANDARD
TZOFFSETFROM:+0200
TZOFFSETTO:+0100
TZNAME:CET
DTSTART:20221030T010000
END:STANDARD
BEGIN:DAYLIGHT
TZOFFSETFROM:+0100
TZOFFSETTO:+0200
TZNAME:CEST
DTSTART:20230326T010000
END:DAYLIGHT
BEGIN:STANDARD
TZOFFSETFROM:+0200
TZOFFSETTO:+0100
TZNAME:CET
DTSTART:20231029T010000
END:STANDARD
BEGIN:DAYLIGHT
TZOFFSETFROM:+0100
TZOFFSETTO:+0200
TZNAME:CEST
DTSTART:20240331T010000
END:DAYLIGHT
BEGIN:STANDARD
TZOFFSETFROM:+0200
TZOFFSETTO:+0100
TZNAME:CET
DTSTART:20241027T010000
END:STANDARD
END:VTIMEZONE
BEGIN:VEVENT
DTSTART;TZID=Europe/Paris:20230905T190000
DTEND;TZID=Europe/Paris:20230905T213000
DTSTAMP:20260422T171740
CREATED:20230704T220447Z
LAST-MODIFIED:20230704T220447Z
UID:8609-1693940400-1693949400@www.electrons-solaires93.org
SUMMARY:Réunion Conseil n° 55\, 05/09/2023
DESCRIPTION:Réunion du Conseil Électrons solaires\nMairie des Lilas
URL:https://www.electrons-solaires93.org/event/reunion-conseil-n-55-05-09-2023/
LOCATION:Mairie\, Les Lilas\, 96 rue de Paris\, Les Lilas\, 93260\, France
END:VEVENT
BEGIN:VEVENT
DTSTART;TZID=Europe/Paris:20230907T090000
DTEND;TZID=Europe/Paris:20230907T200000
DTSTAMP:20260422T171740
CREATED:20230918T095748Z
LAST-MODIFIED:20230918T095748Z
UID:8759-1694077200-1694116800@www.electrons-solaires93.org
SUMMARY:Festival Onde de Coop 07/09/2023
DESCRIPTION:Académie du Climat : 2 place Baudoyer – PARIS 4e \nLa troisième édition du Festival des coopératives pour la transition\, L’Onde de Coop\, revient à la rentrée !\nLe 7 septembre\,  à l’Académie du Climat (Paris 4ème) pour parler du TRAVAIL ! \nNous aborderons le travail (l’emploi\, mais pas que) en articulation avec la coopération et les transitions ! Et nous comptons en discuter avec des invité⋅es de très grande qualité ! \nLe sujet vous semble… laborieux ? Pas d’inquiétude\, nous avons bien l’intention de nous donner les moyens de le traiter avec enthousiasme pour déterminer le travail dont nous avons besoin et dont nous voulons ! Sans faux-semblant\, sans déni\, sans “chief happiness officer” mais sans anxiolytique non plus ! \nAprès les deux premières éditions co-organisées par Enercoop\, La Nef\, Mobicoop et Coopaname\, cette année ce sont Les Licoornes qui reprennent l’organisation ! Merci à Coopaname pour les deux belles éditions à La Cité Fertile et à La Maison des Métallos !
URL:https://www.electrons-solaires93.org/event/festival-onde-de-coop-07-09-2023/
LOCATION:Académe du Cimat\, 2 Place Baudoyer\,\, Paris\, 75004\, France
END:VEVENT
BEGIN:VEVENT
DTSTART;TZID=Europe/Paris:20230909T100000
DTEND;TZID=Europe/Paris:20230909T190000
DTSTAMP:20260422T171740
CREATED:20230618T102105Z
LAST-MODIFIED:20230618T102105Z
UID:8554-1694253600-1694286000@www.electrons-solaires93.org
SUMMARY:Salon des associations Les Lilas (09-10/09/2023)
DESCRIPTION:Salon des Associations\nCentre Culturel Jean Cocteau\, Anglemont\nPlace Charles de Gaulle\n93260 Les Lilas
URL:https://www.electrons-solaires93.org/event/salon-des-associations-les-lilas-09-10-09-2023/
LOCATION:Espace Anglemont\, Les Lilas\, Place du Général de Gaulle\, Les Lilas\, 93260\, France
END:VEVENT
BEGIN:VEVENT
DTSTART;TZID=Europe/Paris:20230910T100000
DTEND;TZID=Europe/Paris:20230910T130000
DTSTAMP:20260422T171740
CREATED:20230618T102205Z
LAST-MODIFIED:20230618T102205Z
UID:8556-1694340000-1694350800@www.electrons-solaires93.org
SUMMARY:Salon des associations Les Lilas (09-10/09/2023)
DESCRIPTION:Salon des Associations\nCentre Culturel Jean Cocteau\, Anglemont\nPlace Charles de Gaulle\n93260 Les Lilas
URL:https://www.electrons-solaires93.org/event/salon-des-associations-les-lilas-09-10-09-2023-2/
LOCATION:Espace Anglemont\, Les Lilas\, Place du Général de Gaulle\, Les Lilas\, 93260\, France
END:VEVENT
END:VCALENDAR