BEGIN:VCALENDAR
VERSION:2.0
PRODID:-//Électrons solaires - ECPv6.15.20//NONSGML v1.0//EN
CALSCALE:GREGORIAN
METHOD:PUBLISH
X-ORIGINAL-URL:https://www.electrons-solaires93.org
X-WR-CALDESC:Évènements pour Électrons solaires
REFRESH-INTERVAL;VALUE=DURATION:PT1H
X-Robots-Tag:noindex
X-PUBLISHED-TTL:PT1H
BEGIN:VTIMEZONE
TZID:Europe/Paris
BEGIN:DAYLIGHT
TZOFFSETFROM:+0100
TZOFFSETTO:+0200
TZNAME:CEST
DTSTART:20220327T010000
END:DAYLIGHT
BEGIN:STANDARD
TZOFFSETFROM:+0200
TZOFFSETTO:+0100
TZNAME:CET
DTSTART:20221030T010000
END:STANDARD
BEGIN:DAYLIGHT
TZOFFSETFROM:+0100
TZOFFSETTO:+0200
TZNAME:CEST
DTSTART:20230326T010000
END:DAYLIGHT
BEGIN:STANDARD
TZOFFSETFROM:+0200
TZOFFSETTO:+0100
TZNAME:CET
DTSTART:20231029T010000
END:STANDARD
BEGIN:DAYLIGHT
TZOFFSETFROM:+0100
TZOFFSETTO:+0200
TZNAME:CEST
DTSTART:20240331T010000
END:DAYLIGHT
BEGIN:STANDARD
TZOFFSETFROM:+0200
TZOFFSETTO:+0100
TZNAME:CET
DTSTART:20241027T010000
END:STANDARD
END:VTIMEZONE
BEGIN:VEVENT
DTSTART;TZID=Europe/Paris:20230606T190000
DTEND;TZID=Europe/Paris:20230606T213000
DTSTAMP:20260422T122951
CREATED:20221212T222645Z
LAST-MODIFIED:20230308T165525Z
UID:8116-1686078000-1686087000@www.electrons-solaires93.org
SUMMARY:Conseil Coopératif n° 53 - 06/06/2023
DESCRIPTION:Réunion du Conseil coopératif d’Électrons solaires\nMairie des Lilas
URL:https://www.electrons-solaires93.org/event/conseil-cooperatif-n-53-06-06-2023/
LOCATION:Mairie\, Les Lilas\, 96 rue de Paris\, Les Lilas\, 93260\, France
END:VEVENT
BEGIN:VEVENT
DTSTART;TZID=Europe/Paris:20230613T190000
DTEND;TZID=Europe/Paris:20230613T213000
DTSTAMP:20260422T122951
CREATED:20221212T222938Z
LAST-MODIFIED:20230308T165541Z
UID:8120-1686682800-1686691800@www.electrons-solaires93.org
SUMMARY:Assemblée Générale Électrons solaires - 13/06/2023
DESCRIPTION:Assemblée Générale Électrons solaires\nMairie des Lilas
URL:https://www.electrons-solaires93.org/event/assemblee-generale-electrons-solaires-13-06-2023/
LOCATION:Mairie\, Les Lilas\, 96 rue de Paris\, Les Lilas\, 93260\, France
END:VEVENT
END:VCALENDAR