BEGIN:VCALENDAR
VERSION:2.0
PRODID:-//Électrons solaires - ECPv6.15.20//NONSGML v1.0//EN
CALSCALE:GREGORIAN
METHOD:PUBLISH
X-WR-CALNAME:Électrons solaires
X-ORIGINAL-URL:https://www.electrons-solaires93.org
X-WR-CALDESC:Évènements pour Électrons solaires
REFRESH-INTERVAL;VALUE=DURATION:PT1H
X-Robots-Tag:noindex
X-PUBLISHED-TTL:PT1H
BEGIN:VTIMEZONE
TZID:Europe/Paris
BEGIN:DAYLIGHT
TZOFFSETFROM:+0100
TZOFFSETTO:+0200
TZNAME:CEST
DTSTART:20190331T010000
END:DAYLIGHT
BEGIN:STANDARD
TZOFFSETFROM:+0200
TZOFFSETTO:+0100
TZNAME:CET
DTSTART:20191027T010000
END:STANDARD
BEGIN:DAYLIGHT
TZOFFSETFROM:+0100
TZOFFSETTO:+0200
TZNAME:CEST
DTSTART:20200329T010000
END:DAYLIGHT
BEGIN:STANDARD
TZOFFSETFROM:+0200
TZOFFSETTO:+0100
TZNAME:CET
DTSTART:20201025T010000
END:STANDARD
BEGIN:DAYLIGHT
TZOFFSETFROM:+0100
TZOFFSETTO:+0200
TZNAME:CEST
DTSTART:20210328T010000
END:DAYLIGHT
BEGIN:STANDARD
TZOFFSETFROM:+0200
TZOFFSETTO:+0100
TZNAME:CET
DTSTART:20211031T010000
END:STANDARD
END:VTIMEZONE
BEGIN:VEVENT
DTSTART;TZID=Europe/Paris:20200717T180000
DTEND;TZID=Europe/Paris:20200717T193000
DTSTAMP:20260426T024249
CREATED:20200709T135308Z
LAST-MODIFIED:20210113T120132Z
UID:1621-1595008800-1595014200@www.electrons-solaires93.org
SUMMARY:Apéro pantinois\, 17/07/2020
DESCRIPTION:Apéro watt convivial : au bar Dock B\,  1 Place de la Pointe 93500 Pantin\, sur la terrasse extérieure \nNous serons disponible pour échanger davantage sur nos projets\, notre fonctionnement (SCIC\, 1 part 1 voix\, prise de part sociale)\, répondre à vos questions sur l’énergie solaire et tout simplement mieux se connaître entre voisins pantinois intéressés par ces enjeux climat-énergie.\nNous recherchons plus de personnes pour nous aider à amplifier la dynamique de la transition énergétique.\nVous pouvez ainsi vous engager à travers notre projet local et concret\, en tant que bénévole ponctuel ou intégré à un groupe de travail\, et/ou souscrire des parts sociales dans notre coopérative. Valorisez votre épargne sur de futurs projets solaires durables sur les 9 villes d’Est Ensemble et suivez l’évolution des chantiers près de chez vous ! \nVoir sur Facebook : https://www.facebook.com/events/329778241366423/ \n 
URL:https://www.electrons-solaires93.org/event/apero-pantinois-17-07-2020/
LOCATION:Pantin – Place de la Pointe\, 1 Place de la Pointe\, Pantin\, 93500
CATEGORIES:Apéro Watt
END:VEVENT
END:VCALENDAR